BEGIN:VCALENDAR
VERSION:2.0
PRODID:-//月半表達教育｜Express True , Just Be You ! - ECPv6.15.20//NONSGML v1.0//EN
CALSCALE:GREGORIAN
METHOD:PUBLISH
X-WR-CALNAME:月半表達教育｜Express True , Just Be You !
X-ORIGINAL-URL:https://ponwo.tw
X-WR-CALDESC:Events for 月半表達教育｜Express True , Just Be You !
REFRESH-INTERVAL;VALUE=DURATION:PT1H
X-Robots-Tag:noindex
X-PUBLISHED-TTL:PT1H
BEGIN:VTIMEZONE
TZID:Asia/Taipei
BEGIN:STANDARD
TZOFFSETFROM:+0800
TZOFFSETTO:+0800
TZNAME:CST
DTSTART:20230101T000000
END:STANDARD
END:VTIMEZONE
BEGIN:VEVENT
DTSTART;TZID=Asia/Taipei:20240802T190000
DTEND;TZID=Asia/Taipei:20240802T220000
DTSTAMP:20260421T201707
CREATED:20240727T065906Z
LAST-MODIFIED:20240802T124440Z
UID:2969-1722625200-1722636000@ponwo.tw
SUMMARY:說話好好玩 單點體驗課0802
DESCRIPTION:「說話好好玩  單點體驗課」 \n『玩』出你的表達力 \n3小時的課程體驗，8項有趣的課程環節 \n相信你會因此了解 \n從心學表達是多麼好玩的事 \n  \n想了解月半表達到底在教什麼嗎？ \n先來感受一下，表達體驗課！ \n  \n報名連結\n  \n活動特色\n你有想過，表達與認識自己可以是一個遊戲嗎？\n月半表達教育的教學方式很特別。 \n首先，每堂課都會讓大家先體驗個有趣的遊戲， \n這遊戲可能需要動手動腳動你的肢體、也需要動腦思考、 \n更重要的是一定會動到你的嘴，但不一定是要你說話。 \n  \n遊戲後，你很有可能會覺得很新鮮、你可能會感受到挫折、 \n你可能會發現一些你沒注意到的身體反應、甚至在過程中發現新的自己。 \n透過黃小胖的引導說明，你將會了解到 \n每一個遊戲都代表著一種表達能力的體驗\n你將更認識你的身體、你想表達的念頭、你身上的武器， \n你將發現你還有許多表達的武器、以及你很想表達的那顆初心。 \n表達就是做自己\n這些課程的養分來自表演課、脫口秀與喜劇、還有自我認識， \n透過十多年來黃小胖的持續演化，成了「讓你可以玩出表達能力」的系列工作坊。 \n  \n四門18小時的課，共72小時的表達教育系統中，超過50種表達遊戲體驗， \n「自信自在入門班」、「情感表達主題班」、「觀點創意進階班」、「幽默開發高階班」 \n在還沒正式參與課程之前，透過「表達好好玩 單點體驗課」 \n讓你一次三個小時，體驗八種表達遊戲，\n  \n 
URL:https://ponwo.tw/event/speakgames0802/
CATEGORIES:窩活動
ATTACH;FMTTYPE=image/webp:https://ponwo.tw/wp-content/uploads/2024/06/scimgR7SsOrBeplPL.webp
END:VEVENT
END:VCALENDAR